BEGIN:VCALENDAR
VERSION:2.0
PRODID:-//Online Consortium of Oklahoma - ECPv6.15.20//NONSGML v1.0//EN
CALSCALE:GREGORIAN
METHOD:PUBLISH
X-WR-CALNAME:Online Consortium of Oklahoma
X-ORIGINAL-URL:https://www.ocolearnok.org
X-WR-CALDESC:Events for Online Consortium of Oklahoma
REFRESH-INTERVAL;VALUE=DURATION:PT1H
X-Robots-Tag:noindex
X-PUBLISHED-TTL:PT1H
BEGIN:VTIMEZONE
TZID:America/Chicago
BEGIN:DAYLIGHT
TZOFFSETFROM:-0600
TZOFFSETTO:-0500
TZNAME:CDT
DTSTART:20190310T080000
END:DAYLIGHT
BEGIN:STANDARD
TZOFFSETFROM:-0500
TZOFFSETTO:-0600
TZNAME:CST
DTSTART:20191103T070000
END:STANDARD
BEGIN:DAYLIGHT
TZOFFSETFROM:-0600
TZOFFSETTO:-0500
TZNAME:CDT
DTSTART:20200308T080000
END:DAYLIGHT
BEGIN:STANDARD
TZOFFSETFROM:-0500
TZOFFSETTO:-0600
TZNAME:CST
DTSTART:20201101T070000
END:STANDARD
BEGIN:DAYLIGHT
TZOFFSETFROM:-0600
TZOFFSETTO:-0500
TZNAME:CDT
DTSTART:20210314T080000
END:DAYLIGHT
BEGIN:STANDARD
TZOFFSETFROM:-0500
TZOFFSETTO:-0600
TZNAME:CST
DTSTART:20211107T070000
END:STANDARD
END:VTIMEZONE
BEGIN:VEVENT
DTSTART;VALUE=DATE:20201105
DTEND;VALUE=DATE:20201106
DTSTAMP:20260424T061316
CREATED:20200909T154334Z
LAST-MODIFIED:20230110T214125Z
UID:4371-1604534400-1604620799@www.ocolearnok.org
SUMMARY:DYOC (Designing Your Online Course) - QM Dedicated Workshop
DESCRIPTION:Description: The “Designing Your Online Course” workshop includes an overview of the QM Rubric and provides a framework for participants to design an online course plan. An integral element of the workshop is exploration of the eight General Standards of the QM Rubric\, focusing on learning objectives and overall course alignment. Participants will complete a Course Development Plan. The plan includes all of the essential Specific Review Standards (SRS) with a column for how the participant will meet the SRS in their course and what resources they will need. \nPrerequisites: None \nWhat Participants Need \n\nAn online course you are developing\n8 to 10 hours of time per week to spend on achieving the learning objectives\n\nCourse Length: Two weeks \nDelivery Mode: Online (Asynchronous) \nFacilitator(s): OKQM\nKay Daigle kdaigle@se.edu \nRegistration: OKQM Dedicated Workshop Registration \nRegistration Fee for OKQM Affiliates: $65 early bird registration/$75 late registration \nWorkshops require a minimum of five participants to run.
URL:https://www.ocolearnok.org/upcoming-event/dyoc-designing-your-online-course-qm-dedicated-workshop-2020-11-05/
LOCATION:Online (Asynchronous)
CATEGORIES:DYOC,QM Dedicated Workshop
END:VEVENT
BEGIN:VEVENT
DTSTART;VALUE=DATE:20201105
DTEND;VALUE=DATE:20201106
DTSTAMP:20260424T061316
CREATED:20200909T154438Z
LAST-MODIFIED:20230110T214022Z
UID:4373-1604534400-1604620799@www.ocolearnok.org
SUMMARY:APPQMR (Applying the QM Rubric) - QM Dedicated Workshop
DESCRIPTION:Description: QM’s flagship workshop on the QM Rubric and its use in reviewing the design of online and blended courses is intended for a broad audience\, including but not limited to faculty\, instructional designers\, administrators\, and adjunct instructors. It is particularly helpful to those new to QM or those considering the adoption of a quality assurance process for online and blended learning. \nIn addition to learning about the QM Rubric and the course review process\, participants will learn to apply the concept of alignment and draft helpful recommendations for course improvement. \nThe APPQMR is the prerequisite for the Peer Reviewer Course\, which is the required course to become a QM Peer Reviewer. \nPrerequisites: None \nWhat Participants Need: At least 10 to 12 hours of time per week to spend on achieving the learning objectives. Some participants report spending at least 15 hours per week. \nCourse Length: Two weeks \nDelivery Mode: Online (Asynchronous) \nFacilitator(s): OKQM\nEarlene Washburn ewashburn@rsu.edu\nAmy McCain amccain@mscok.edu \nRegistration: OKQM Dedicated Workshop Registration \nRegistration Fee for OKQM Affiliates: $85 early bird registration/$95 late registration \nWorkshops require a minimum of five participants to run.
URL:https://www.ocolearnok.org/upcoming-event/appqmr-applying-the-qm-rubric-qm-dedicated-workshop-2020-11-05/
LOCATION:Online (Asynchronous)
CATEGORIES:APPQMR,QM Dedicated Workshop
END:VEVENT
BEGIN:VEVENT
DTSTART;TZID=America/Chicago:20201110T100000
DTEND;TZID=America/Chicago:20201110T120000
DTSTAMP:20260424T061316
CREATED:20200909T153554Z
LAST-MODIFIED:20230110T220957Z
UID:4359-1605002400-1605009600@www.ocolearnok.org
SUMMARY:OCO Steering Committee Meeting
DESCRIPTION:Description: Monthly meeting of the OCO steering committee. Occurs the second Tuesday of each month at 10:00 a.m. via Zoom. Meetings are by invitation only. \nFacilitator(s): Christala Smith\, Chair (SEOSU) \nRegistration: By Invitation Only
URL:https://www.ocolearnok.org/upcoming-event/oco-steering-committee-meeting-2020-11-10/
LOCATION:Virtual
END:VEVENT
END:VCALENDAR