BEGIN:VCALENDAR
VERSION:2.0
PRODID:-//Online Consortium of Oklahoma - ECPv6.15.20//NONSGML v1.0//EN
CALSCALE:GREGORIAN
METHOD:PUBLISH
X-ORIGINAL-URL:https://www.ocolearnok.org
X-WR-CALDESC:Events for Online Consortium of Oklahoma
REFRESH-INTERVAL;VALUE=DURATION:PT1H
X-Robots-Tag:noindex
X-PUBLISHED-TTL:PT1H
BEGIN:VTIMEZONE
TZID:America/Chicago
BEGIN:DAYLIGHT
TZOFFSETFROM:-0600
TZOFFSETTO:-0500
TZNAME:CDT
DTSTART:20190310T080000
END:DAYLIGHT
BEGIN:STANDARD
TZOFFSETFROM:-0500
TZOFFSETTO:-0600
TZNAME:CST
DTSTART:20191103T070000
END:STANDARD
BEGIN:DAYLIGHT
TZOFFSETFROM:-0600
TZOFFSETTO:-0500
TZNAME:CDT
DTSTART:20200308T080000
END:DAYLIGHT
BEGIN:STANDARD
TZOFFSETFROM:-0500
TZOFFSETTO:-0600
TZNAME:CST
DTSTART:20201101T070000
END:STANDARD
BEGIN:DAYLIGHT
TZOFFSETFROM:-0600
TZOFFSETTO:-0500
TZNAME:CDT
DTSTART:20210314T080000
END:DAYLIGHT
BEGIN:STANDARD
TZOFFSETFROM:-0500
TZOFFSETTO:-0600
TZNAME:CST
DTSTART:20211107T070000
END:STANDARD
END:VTIMEZONE
BEGIN:VEVENT
DTSTART;TZID=America/Chicago:20201202T140000
DTEND;TZID=America/Chicago:20201202T160000
DTSTAMP:20260424T044321
CREATED:20201116T225214Z
LAST-MODIFIED:20230110T220955Z
UID:4723-1606917600-1606924800@www.ocolearnok.org
SUMMARY:Oklahoma Association on Higher Education and Disability (OK-AHEAD) Fall 2020 Student Panel
DESCRIPTION:As many institutions shifted to emergency remote instruction in spring 2020\, all students throughout Oklahoma colleges and career tech centers had to adapt\, practically overnight\, to a new or modified way of learning. For many students with disabilities\, this shift presented new challenges concerning the sensory\, cognitive and physical capacities used to navigate online learning environments\, much less their ability to access other resources and services. During this session\, participants will listen to students’ stories firsthand and engage with them to learn how to individually ensure a quality\, inclusive learning experience for all students\, regardless of abilities. \nModerator:  Steph Rogers (University of Central Oklahoma) \nRegistration is required for the panel.
URL:https://www.ocolearnok.org/upcoming-event/oklahoma-association-on-higher-education-and-disability-ok-ahead-fall-2020-student-panel/
LOCATION:Zoom
END:VEVENT
BEGIN:VEVENT
DTSTART;TZID=America/Chicago:20201203T140000
DTEND;TZID=America/Chicago:20201203T150000
DTSTAMP:20260424T044321
CREATED:20201116T225522Z
LAST-MODIFIED:20230110T220954Z
UID:4726-1607004000-1607007600@www.ocolearnok.org
SUMMARY:To Proctor\, or Not to Proctor? An Encore Presentation
DESCRIPTION:Many faculty approaching a new term of fully remote instruction may now be wondering how to ensure academic integrity and identity of learners outside of the traditional classroom. This session will first provide you with an overview of various techniques to assess learners in the online environment\, some of which do not require any form of proctoring. For those cases where proctoring is necessary\, a sampling of current online proctoring strategies and technologies will help inform faculty and administrators. \nPresenters: Bucky Dodd (University of Central Oklahoma)\, Brad Griffith (Oklahoma State Regents for Higher Education) \nRegistration is required for the free event.
URL:https://www.ocolearnok.org/upcoming-event/to-proctor-or-not-to-proctor-an-encore-presentation/
LOCATION:Zoom
END:VEVENT
BEGIN:VEVENT
DTSTART;TZID=America/Chicago:20201203T150000
DTEND;TZID=America/Chicago:20201203T160000
DTSTAMP:20260424T044321
CREATED:20201116T225757Z
LAST-MODIFIED:20230110T220952Z
UID:4728-1607007600-1607011200@www.ocolearnok.org
SUMMARY:OCO Fall 2020 Remote Proctoring Study Q&A (optional for participants)
DESCRIPTION:Following the “To Proctor\, or Not to Proctor? An Encore Presentation” workshop\, participants of the Online Consortium of Oklahoma’s fall 2020 remote proctoring study are invited to a brief Q&A session regarding the study\, submitting reports\, and the roundtable discussion scheduled February 5. \nFacilitator: Brad Griffith (Oklahoma State Regents for Higher Education) \nRegistration is required for the free event.
URL:https://www.ocolearnok.org/upcoming-event/oco-fall-2020-remote-proctoring-study-qa-optional-for-participants/
LOCATION:Zoom
END:VEVENT
BEGIN:VEVENT
DTSTART;TZID=America/Chicago:20201208T100000
DTEND;TZID=America/Chicago:20201208T120000
DTSTAMP:20260424T044321
CREATED:20200909T153735Z
LAST-MODIFIED:20230110T220950Z
UID:4361-1607421600-1607428800@www.ocolearnok.org
SUMMARY:OCO Steering Committee Meeting
DESCRIPTION:Description: Monthly meeting of the OCO steering committee. Occurs the second Tuesday of each month at 10:00 a.m. via Zoom. Meetings are by invitation only. \nFacilitator(s): Christala Smith\, Chair (SEOSU) \nRegistration: By Invitation Only
URL:https://www.ocolearnok.org/upcoming-event/oco-steering-committee-meeting-2020-12-08/
LOCATION:Virtual
END:VEVENT
END:VCALENDAR