BEGIN:VCALENDAR
VERSION:2.0
PRODID:-//Online Consortium of Oklahoma - ECPv6.15.20//NONSGML v1.0//EN
CALSCALE:GREGORIAN
METHOD:PUBLISH
X-ORIGINAL-URL:https://www.ocolearnok.org
X-WR-CALDESC:Events for Online Consortium of Oklahoma
REFRESH-INTERVAL;VALUE=DURATION:PT1H
X-Robots-Tag:noindex
X-PUBLISHED-TTL:PT1H
BEGIN:VTIMEZONE
TZID:America/Chicago
BEGIN:DAYLIGHT
TZOFFSETFROM:-0600
TZOFFSETTO:-0500
TZNAME:CDT
DTSTART:20200308T080000
END:DAYLIGHT
BEGIN:STANDARD
TZOFFSETFROM:-0500
TZOFFSETTO:-0600
TZNAME:CST
DTSTART:20201101T070000
END:STANDARD
BEGIN:DAYLIGHT
TZOFFSETFROM:-0600
TZOFFSETTO:-0500
TZNAME:CDT
DTSTART:20210314T080000
END:DAYLIGHT
BEGIN:STANDARD
TZOFFSETFROM:-0500
TZOFFSETTO:-0600
TZNAME:CST
DTSTART:20211107T070000
END:STANDARD
BEGIN:DAYLIGHT
TZOFFSETFROM:-0600
TZOFFSETTO:-0500
TZNAME:CDT
DTSTART:20220313T080000
END:DAYLIGHT
BEGIN:STANDARD
TZOFFSETFROM:-0500
TZOFFSETTO:-0600
TZNAME:CST
DTSTART:20221106T070000
END:STANDARD
END:VTIMEZONE
BEGIN:VEVENT
DTSTART;VALUE=DATE:20210109
DTEND;VALUE=DATE:20210110
DTSTAMP:20260424T031658
CREATED:20201223T195002Z
LAST-MODIFIED:20230110T214019Z
UID:4767-1610150400-1610236799@www.ocolearnok.org
SUMMARY:APPQMR (Applying the QM Rubric) – Dedicated Workshop
DESCRIPTION:Description: QM’s flagship workshop on the QM Rubric and its use in reviewing the design of online and blended courses is intended for a broad audience\, including but not limited to faculty\, instructional designers\, administrators\, and adjunct instructors. It is particularly helpful to those new to QM or those considering the adoption of a quality assurance process for online and blended learning. \nIn addition to learning about the QM Rubric and the course review process\, participants will learn to apply the concept of alignment and draft helpful recommendations for course improvement. \nThe APPQMR is the prerequisite for the Peer Reviewer Course\, which is the required course to become a QM Peer Reviewer. \nPrerequisites: None \nWhat Participants Need: At least 10 to 12 hours of time per week to spend on achieving the learning objectives. Some participants report spending at least 15 hours per week. \nCourse Length: Two weeks \nDelivery Mode: Online (Asynchronous) \nFacilitator(s): Bradley Griffith (OSRHE) and Earlene Washburn (RSU) \nRegistration: OKQM Dedicated Workshop Registration \nRegistration Fee for OKQM Affiliates: $85 early bird registration/$95 late registration \nWorkshops require a minimum of five participants to run.
URL:https://www.ocolearnok.org/upcoming-event/appqmr-applying-the-qm-rubric-dedicated-workshop-2021-9-1/
LOCATION:Online (Asynchronous)
CATEGORIES:APPQMR,QM Dedicated Workshop
END:VEVENT
BEGIN:VEVENT
DTSTART;TZID=America/Chicago:20210128T100000
DTEND;TZID=America/Chicago:20210128T150000
DTSTAMP:20260424T031658
CREATED:20210106T213307Z
LAST-MODIFIED:20230110T220948Z
UID:4789-1611828000-1611846000@www.ocolearnok.org
SUMMARY:Fixing a Hole With Open Educational Resources
DESCRIPTION:January 28-29\, 2021 @ 10 a.m. – 3 p.m.\nHosted by the University and College Division of the Oklahoma Library Association \nDescription: It’s no secret that publishers place a premium on the cost of textbooks\, and students are left in the lurch. As textbook prices increased over time\, open educational resources (OER) have filled the need for low‐cost course materials as they are free\, open access\, and often easy to customize. \nOklahoma Library Association’s University & College Division invites anyone interested in OER for a two‐day virtual workshop. Day 1 will consist of foundational lectures in OER\, and Day 2 will feature hands‐on sessions where attendees can get hands-on experiences with OER creation and key tools—and if you’re already comfortable in your knowledge of OER but want hands-on practice\, single‐day registration for day 2 will be available! Please see the attached flyer for a full program description. \nThis workshop is for anyone interested in OER and/or working in education\, whether you’re a librarian\, faculty member\, adjunct instructor\, instructional designer\, school teacher\, or graduate student. We hope you can join us for a fantastic line‐up of experienced OER professionals across Oklahoma. \nRegister at https://www.oklibs.org/event/UCD2021 by Jan. 21\, 2021. \nFacilitators: See agenda \nFees: Day 1 and 2: $40 for OLA members\, $60 for non-OLA members; Day 2 Only: $20 for OLA members\, $30 for non-OLA members \nRegistration: Registration for Fixing a Hole With Open Educational Resources \nRegistration Deadline: Jan. 21\, 2021 \n 
URL:https://www.ocolearnok.org/upcoming-event/fixing-a-hole-with-open-educational-resources/
LOCATION:Virtual
END:VEVENT
BEGIN:VEVENT
DTSTART;TZID=America/Chicago:20210129T100000
DTEND;TZID=America/Chicago:20210129T150000
DTSTAMP:20260424T031658
CREATED:20210106T213559Z
LAST-MODIFIED:20230110T220947Z
UID:4793-1611914400-1611932400@www.ocolearnok.org
SUMMARY:Fixing a Hole With Open Educational Resources
DESCRIPTION:January 28-29\, 2021 @ 10 a.m. – 3 p.m.\nHosted by the University and College Division of the Oklahoma Library Association \nDescription: It’s no secret that publishers place a premium on the cost of textbooks\, and students are left in the lurch. As textbook prices increased over time\, open educational resources (OER) have filled the need for low‐cost course materials as they are free\, open access\, and often easy to customize. \nOklahoma Library Association’s University & College Division invites anyone interested in OER for a two‐day virtual workshop. Day 1 will consist of foundational lectures in OER\, and Day 2 will feature hands‐on sessions where attendees can get hands-on experiences with OER creation and key tools—and if you’re already comfortable in your knowledge of OER but want hands-on practice\, single‐day registration for day 2 will be available! Please see the attached flyer for a full program description. \nThis workshop is for anyone interested in OER and/or working in education\, whether you’re a librarian\, faculty member\, adjunct instructor\, instructional designer\, school teacher\, or graduate student. We hope you can join us for a fantastic line‐up of experienced OER professionals across Oklahoma. \nRegister at https://www.oklibs.org/event/UCD2021 by Jan. 21\, 2021. \nFacilitators: See agenda \nFees: Day 1 and 2: $40 for OLA members\, $60 for non-OLA members; Day 2 Only: $20 for OLA members\, $30 for non-OLA members \nRegistration: Registration for Fixing a Hole With Open Educational Resources \nRegistration Deadline: Jan. 21\, 2021 \n 
URL:https://www.ocolearnok.org/upcoming-event/fixing-a-hole-with-open-educational-resources-2/
LOCATION:Virtual
END:VEVENT
END:VCALENDAR