BEGIN:VCALENDAR
VERSION:2.0
PRODID:-//Online Consortium of Oklahoma - ECPv6.15.20//NONSGML v1.0//EN
CALSCALE:GREGORIAN
METHOD:PUBLISH
X-WR-CALNAME:Online Consortium of Oklahoma
X-ORIGINAL-URL:https://www.ocolearnok.org
X-WR-CALDESC:Events for Online Consortium of Oklahoma
REFRESH-INTERVAL;VALUE=DURATION:PT1H
X-Robots-Tag:noindex
X-PUBLISHED-TTL:PT1H
BEGIN:VTIMEZONE
TZID:America/Chicago
BEGIN:DAYLIGHT
TZOFFSETFROM:-0600
TZOFFSETTO:-0500
TZNAME:CDT
DTSTART:20200308T080000
END:DAYLIGHT
BEGIN:STANDARD
TZOFFSETFROM:-0500
TZOFFSETTO:-0600
TZNAME:CST
DTSTART:20201101T070000
END:STANDARD
BEGIN:DAYLIGHT
TZOFFSETFROM:-0600
TZOFFSETTO:-0500
TZNAME:CDT
DTSTART:20210314T080000
END:DAYLIGHT
BEGIN:STANDARD
TZOFFSETFROM:-0500
TZOFFSETTO:-0600
TZNAME:CST
DTSTART:20211107T070000
END:STANDARD
BEGIN:DAYLIGHT
TZOFFSETFROM:-0600
TZOFFSETTO:-0500
TZNAME:CDT
DTSTART:20220313T080000
END:DAYLIGHT
BEGIN:STANDARD
TZOFFSETFROM:-0500
TZOFFSETTO:-0600
TZNAME:CST
DTSTART:20221106T070000
END:STANDARD
END:VTIMEZONE
BEGIN:VEVENT
DTSTART;TZID=America/Chicago:20210205T100000
DTEND;TZID=America/Chicago:20210205T120000
DTSTAMP:20260424T013228
CREATED:20201028T152646Z
LAST-MODIFIED:20230110T220945Z
UID:4705-1612519200-1612526400@www.ocolearnok.org
SUMMARY:OCO Proctoring Study Roundtable Discussion
DESCRIPTION:Hosted by the Online Consortium of Oklahoma \nDescription: OCO member institution participants in the Fall 2020 Remote Proctoring Study will come together for a virtual roundtable discussion to share results of the study and discuss best practices for moving forward.  By invitation only.
URL:https://www.ocolearnok.org/upcoming-event/oco-proctoring-study-roundtable-discussion/
LOCATION:Virtual
END:VEVENT
BEGIN:VEVENT
DTSTART;TZID=America/Chicago:20210209T080000
DTEND;TZID=America/Chicago:20210209T170000
DTSTAMP:20260424T013228
CREATED:20201207T154820Z
LAST-MODIFIED:20230110T214020Z
UID:4758-1612857600-1612890000@www.ocolearnok.org
SUMMARY:APPQMR (Applying the QM Rubric) – Dedicated Workshop
DESCRIPTION:Description: QM’s flagship workshop on the QM Rubric and its use in reviewing the design of online and blended courses is intended for a broad audience\, including but not limited to faculty\, instructional designers\, administrators\, and adjunct instructors. It is particularly helpful to those new to QM or those considering the adoption of a quality assurance process for online and blended learning. \nIn addition to learning about the QM Rubric and the course review process\, participants will learn to apply the concept of alignment and draft helpful recommendations for course improvement. \nThe APPQMR is the prerequisite for the Peer Reviewer Course\, which is the required course to become a QM Peer Reviewer. \nPrerequisites: None \nWhat Participants Need: At least 10 to 12 hours of time per week to spend on achieving the learning objectives. Some participants report spending at least 15 hours per week. \nCourse Length: Two weeks \nDelivery Mode: Online (Asynchronous) \nFacilitator(s): OKQM\, Earlene Washburn (Rogers State University)\, Brad Griffith (OSRHE) \nRegistration: OKQM Dedicated Workshop Registration \nRegistration Fee for OKQM Affiliates: $85 early bird registration/$95 late registration \nWorkshops require a minimum of five participants to run.
URL:https://www.ocolearnok.org/upcoming-event/appqmr-applying-the-qm-rubric-dedicated-workshop/
CATEGORIES:APPQMR,QM Dedicated Workshop
END:VEVENT
BEGIN:VEVENT
DTSTART;VALUE=DATE:20210218
DTEND;VALUE=DATE:20210219
DTSTAMP:20260424T013228
CREATED:20201223T195725Z
LAST-MODIFIED:20230110T214256Z
UID:4769-1613606400-1613692799@www.ocolearnok.org
SUMMARY:IYOC (Improving Your Online Course) - QM Dedicated Workshop
DESCRIPTION:Description: The “Improving Your Online Course” workshop explores the QM Rubric and provides a framework to improve the quality of online courses. Participants use the QM Rubric to review their own online courses and develop a course improvement plan.\nThe content is based on the essential Specific Review Standards of the Quality Matters Rubric. Participants come away with a plan for course improvement so enrolling in the workshop with a pre-developed online course is required.\nThose without an existing online course to improve should sign up for the Designing Your Online Course workshop. \nPrerequisites: None \nWhat Participants Need \n\nAn online course to improve.\n8 to 10 hours of time per week to spend on achieving the learning objectives.\n\nCourse Length: Two weeks \nDelivery Mode: Online (Asynchronous) \nFacilitator(s): OKQM\, Dana Lindon-Burgett (Rose State College)\, and Tammara Williams-Dias (OSU-OKC) \nRegistration: OKQM Dedicated Workshop Registration \nRegistration Fee with OKQM Membership: $65 early bird registration/$75 late registration \nWorkshops require a minimum of five participants to run.
URL:https://www.ocolearnok.org/upcoming-event/iyoc-improving-your-online-course-qm-dedicated-workshop/
LOCATION:Online (Asynchronous)
CATEGORIES:IYOC,QM Dedicated Workshop
END:VEVENT
END:VCALENDAR