BEGIN:VCALENDAR
VERSION:2.0
PRODID:-//Online Consortium of Oklahoma - ECPv6.15.20//NONSGML v1.0//EN
CALSCALE:GREGORIAN
METHOD:PUBLISH
X-WR-CALNAME:Online Consortium of Oklahoma
X-ORIGINAL-URL:https://www.ocolearnok.org
X-WR-CALDESC:Events for Online Consortium of Oklahoma
REFRESH-INTERVAL;VALUE=DURATION:PT1H
X-Robots-Tag:noindex
X-PUBLISHED-TTL:PT1H
BEGIN:VTIMEZONE
TZID:America/Chicago
BEGIN:DAYLIGHT
TZOFFSETFROM:-0600
TZOFFSETTO:-0500
TZNAME:CDT
DTSTART:20200308T080000
END:DAYLIGHT
BEGIN:STANDARD
TZOFFSETFROM:-0500
TZOFFSETTO:-0600
TZNAME:CST
DTSTART:20201101T070000
END:STANDARD
BEGIN:DAYLIGHT
TZOFFSETFROM:-0600
TZOFFSETTO:-0500
TZNAME:CDT
DTSTART:20210314T080000
END:DAYLIGHT
BEGIN:STANDARD
TZOFFSETFROM:-0500
TZOFFSETTO:-0600
TZNAME:CST
DTSTART:20211107T070000
END:STANDARD
BEGIN:DAYLIGHT
TZOFFSETFROM:-0600
TZOFFSETTO:-0500
TZNAME:CDT
DTSTART:20220313T080000
END:DAYLIGHT
BEGIN:STANDARD
TZOFFSETFROM:-0500
TZOFFSETTO:-0600
TZNAME:CST
DTSTART:20221106T070000
END:STANDARD
END:VTIMEZONE
BEGIN:VEVENT
DTSTART;VALUE=DATE:20210330
DTEND;VALUE=DATE:20210424
DTSTAMP:20260423T222139
CREATED:20210322T193928Z
LAST-MODIFIED:20230110T220943Z
UID:4823-1617062400-1619222399@www.ocolearnok.org
SUMMARY:2021 Oklahoma Learning Innovations Summit (Fridays through April 23)
DESCRIPTION:Join us for the 2021 Learning Innovations Summit\, hosted annually by the Oklahoma Council for Online Learning Excellence (COLE). This year’s Summit schedule includes: \n\n\n\nState of Online Learning in Oklahoma 2021 – Wednesday\, March 31\, 2 p.m.\nLightning Round 30-minute sessions – Fridays\, April 2-23\, 9 a.m.-3 p.m.\nOnline Excellence Awards Winners Showcase – TBD April/May\n\n\n\nCheck out the sessions\, including the Call for Proposals\, and register at: https://summit.ocolearnok.org. \nRegistration is free and requests for accommodations should be sent to online@osrhe.edu.
URL:https://www.ocolearnok.org/upcoming-event/2021-learning-innovations-summit/
END:VEVENT
BEGIN:VEVENT
DTSTART;VALUE=DATE:20210408
DTEND;VALUE=DATE:20210409
DTSTAMP:20260423T222139
CREATED:20201223T200447Z
LAST-MODIFIED:20230110T214124Z
UID:4773-1617840000-1617926399@www.ocolearnok.org
SUMMARY:DYOC (Designing Your Online Course) - QM Dedicated Workshop
DESCRIPTION:Description: The “Designing Your Online Course” workshop includes an overview of the QM Rubric and provides a framework for participants to design an online course plan. An integral element of the workshop is exploration of the eight General Standards of the QM Rubric\, focusing on learning objectives and overall course alignment. Participants will complete a Course Development Plan. The plan includes all of the essential Specific Review Standards (SRS) with a column for how the participant will meet the SRS in their course and what resources they will need. \nPrerequisites: None \nWhat Participants Need \n\nAn online course you are developing\n8 to 10 hours of time per week to spend on achieving the learning objectives\n\nCourse Length: Two weeks \nDelivery Mode: Online (Asynchronous) \nFacilitator(s): OKQM\, Kay Daigle (Southeastern Oklahoma State University) \nRegistration: OKQM Dedicated Workshop Registration \nRegistration Fee for OKQM Affiliates: $65 early bird registration/$75 late registration \nWorkshops require a minimum of five participants to run.
URL:https://www.ocolearnok.org/upcoming-event/dyoc-designing-your-online-course-qm-dedicated-workshop-2021-4-8/
LOCATION:Online (Asynchronous)
CATEGORIES:DYOC,QM Dedicated Workshop
END:VEVENT
BEGIN:VEVENT
DTSTART;VALUE=DATE:20210413
DTEND;VALUE=DATE:20210414
DTSTAMP:20260423T222139
CREATED:20201223T200809Z
LAST-MODIFIED:20230110T214017Z
UID:4776-1618272000-1618358399@www.ocolearnok.org
SUMMARY:APPQMR (Applying the QM Rubric) - QM Dedicated Workshop
DESCRIPTION:Description: QM’s flagship workshop on the QM Rubric and its use in reviewing the design of online and blended courses is intended for a broad audience\, including but not limited to faculty\, instructional designers\, administrators\, and adjunct instructors. It is particularly helpful to those new to QM or those considering the adoption of a quality assurance process for online and blended learning. \nIn addition to learning about the QM Rubric and the course review process\, participants will learn to apply the concept of alignment and draft helpful recommendations for course improvement. \nThe APPQMR is the prerequisite for the Peer Reviewer Course\, which is the required course to become a QM Peer Reviewer. \nPrerequisites: None \nWhat Participants Need: At least 10 to 12 hours of time per week to spend on achieving the learning objectives. Some participants report spending at least 15 hours per week. \nCourse Length: Two weeks \nDelivery Mode: Online (Asynchronous) \nFacilitator(s): OKQM\, Brad Griffith (OSRHE) \nRegistration: OKQM Dedicated Workshop Registration \nRegistration Fee for OKQM Affiliates: $85 early bird registration/$95 late registration \nWorkshops require a minimum of five participants to run.
URL:https://www.ocolearnok.org/upcoming-event/appqmr-applying-the-qm-rubric-qm-dedicated-workshop-2021-4-13/
LOCATION:Online (Asynchronous)
CATEGORIES:APPQMR,QM Dedicated Workshop
END:VEVENT
BEGIN:VEVENT
DTSTART;VALUE=DATE:20210415
DTEND;VALUE=DATE:20210416
DTSTAMP:20260423T222139
CREATED:20201223T201215Z
LAST-MODIFIED:20230110T214122Z
UID:4778-1618444800-1618531199@www.ocolearnok.org
SUMMARY:DYOC (Designing Your Online Course) - QM Dedicated Workshop
DESCRIPTION:Description: The “Designing Your Online Course” workshop includes an overview of the QM Rubric and provides a framework for participants to design an online course plan. An integral element of the workshop is exploration of the eight General Standards of the QM Rubric\, focusing on learning objectives and overall course alignment. Participants will complete a Course Development Plan. The plan includes all of the essential Specific Review Standards (SRS) with a column for how the participant will meet the SRS in their course and what resources they will need. \nPrerequisites: None \nWhat Participants Need \n\nAn online course you are developing\n8 to 10 hours of time per week to spend on achieving the learning objectives\n\nCourse Length: Two weeks \nDelivery Mode: Online (Asynchronous) \nFacilitator(s): OKQM\, Lisa Restivo (Cameron University) \nRegistration: OKQM Dedicated Workshop Registration \nRegistration Fee for OKQM Affiliates: $65 early bird registration/$75 late registration \nWorkshops require a minimum of five participants to run.
URL:https://www.ocolearnok.org/upcoming-event/dyoc-designing-your-online-course-qm-dedicated-workshop-2021-4-15/
LOCATION:Online (Asynchronous)
CATEGORIES:DYOC,QM Dedicated Workshop
END:VEVENT
END:VCALENDAR