BEGIN:VCALENDAR
VERSION:2.0
PRODID:-//Online Consortium of Oklahoma - ECPv6.15.20//NONSGML v1.0//EN
CALSCALE:GREGORIAN
METHOD:PUBLISH
X-ORIGINAL-URL:https://www.ocolearnok.org
X-WR-CALDESC:Events for Online Consortium of Oklahoma
REFRESH-INTERVAL;VALUE=DURATION:PT1H
X-Robots-Tag:noindex
X-PUBLISHED-TTL:PT1H
BEGIN:VTIMEZONE
TZID:America/Chicago
BEGIN:DAYLIGHT
TZOFFSETFROM:-0600
TZOFFSETTO:-0500
TZNAME:CDT
DTSTART:20200308T080000
END:DAYLIGHT
BEGIN:STANDARD
TZOFFSETFROM:-0500
TZOFFSETTO:-0600
TZNAME:CST
DTSTART:20201101T070000
END:STANDARD
BEGIN:DAYLIGHT
TZOFFSETFROM:-0600
TZOFFSETTO:-0500
TZNAME:CDT
DTSTART:20210314T080000
END:DAYLIGHT
BEGIN:STANDARD
TZOFFSETFROM:-0500
TZOFFSETTO:-0600
TZNAME:CST
DTSTART:20211107T070000
END:STANDARD
BEGIN:DAYLIGHT
TZOFFSETFROM:-0600
TZOFFSETTO:-0500
TZNAME:CDT
DTSTART:20220313T080000
END:DAYLIGHT
BEGIN:STANDARD
TZOFFSETFROM:-0500
TZOFFSETTO:-0600
TZNAME:CST
DTSTART:20221106T070000
END:STANDARD
END:VTIMEZONE
BEGIN:VEVENT
DTSTART;VALUE=DATE:20210617
DTEND;VALUE=DATE:20210618
DTSTAMP:20260423T191445
CREATED:20201223T201450Z
LAST-MODIFIED:20230110T214252Z
UID:4780-1623888000-1623974399@www.ocolearnok.org
SUMMARY:IYOC (Improving Your Online Course) - QM Dedicated Workshop
DESCRIPTION:Description: The “Improving Your Online Course” workshop explores the QM Rubric and provides a framework to improve the quality of online courses. Participants use the QM Rubric to review their own online courses and develop a course improvement plan.\nThe content is based on the essential Specific Review Standards of the Quality Matters Rubric. Participants come away with a plan for course improvement so enrolling in the workshop with a pre-developed online course is required.\nThose without an existing online course to improve should sign up for the Designing Your Online Course workshop. \nPrerequisites: None \nWhat Participants Need \n\nAn online course to improve.\n8 to 10 hours of time per week to spend on achieving the learning objectives.\n\nCourse Length: Two weeks \nDelivery Mode: Online (Asynchronous) \nFacilitator(s): OKQM\, Dana Lindon-Burgett (Rose State College) \nRegistration: OKQM Dedicated Workshop Registration \nRegistration Fee with OKQM Membership: $65 early bird registration/$75 late registration \nWorkshops require a minimum of five participants to run.
URL:https://www.ocolearnok.org/upcoming-event/iyoc-improving-your-online-course-qm-dedicated-workshop-2021-6-17/
LOCATION:Online (Asynchronous)
CATEGORIES:IYOC,QM Dedicated Workshop
END:VEVENT
END:VCALENDAR