BEGIN:VCALENDAR
VERSION:2.0
PRODID:-//Online Consortium of Oklahoma - ECPv6.15.20//NONSGML v1.0//EN
CALSCALE:GREGORIAN
METHOD:PUBLISH
X-ORIGINAL-URL:https://www.ocolearnok.org
X-WR-CALDESC:Events for Online Consortium of Oklahoma
REFRESH-INTERVAL;VALUE=DURATION:PT1H
X-Robots-Tag:noindex
X-PUBLISHED-TTL:PT1H
BEGIN:VTIMEZONE
TZID:America/Chicago
BEGIN:DAYLIGHT
TZOFFSETFROM:-0600
TZOFFSETTO:-0500
TZNAME:CDT
DTSTART:20200308T080000
END:DAYLIGHT
BEGIN:STANDARD
TZOFFSETFROM:-0500
TZOFFSETTO:-0600
TZNAME:CST
DTSTART:20201101T070000
END:STANDARD
BEGIN:DAYLIGHT
TZOFFSETFROM:-0600
TZOFFSETTO:-0500
TZNAME:CDT
DTSTART:20210314T080000
END:DAYLIGHT
BEGIN:STANDARD
TZOFFSETFROM:-0500
TZOFFSETTO:-0600
TZNAME:CST
DTSTART:20211107T070000
END:STANDARD
BEGIN:DAYLIGHT
TZOFFSETFROM:-0600
TZOFFSETTO:-0500
TZNAME:CDT
DTSTART:20220313T080000
END:DAYLIGHT
BEGIN:STANDARD
TZOFFSETFROM:-0500
TZOFFSETTO:-0600
TZNAME:CST
DTSTART:20221106T070000
END:STANDARD
END:VTIMEZONE
BEGIN:VEVENT
DTSTART;VALUE=DATE:20210708
DTEND;VALUE=DATE:20210709
DTSTAMP:20260423T174021
CREATED:20201223T201620Z
LAST-MODIFIED:20230110T214120Z
UID:4782-1625702400-1625788799@www.ocolearnok.org
SUMMARY:DYOC (Designing Your Online Course) - QM Dedicated Workshop
DESCRIPTION:Description: The “Designing Your Online Course” workshop includes an overview of the QM Rubric and provides a framework for participants to design an online course plan. An integral element of the workshop is exploration of the eight General Standards of the QM Rubric\, focusing on learning objectives and overall course alignment. Participants will complete a Course Development Plan. The plan includes all of the essential Specific Review Standards (SRS) with a column for how the participant will meet the SRS in their course and what resources they will need. \nPrerequisites: None \nWhat Participants Need \n\nAn online course you are developing\n8 to 10 hours of time per week to spend on achieving the learning objectives\n\nCourse Length: Two weeks \nDelivery Mode: Online (Asynchronous) \nFacilitator(s): OKQM\, Lisa Restivo (Cameron University) \nRegistration: OKQM Dedicated Workshop Registration \nRegistration Fee for OKQM Affiliates: $65 early bird registration/$75 late registration \nWorkshops require a minimum of five participants to run.
URL:https://www.ocolearnok.org/upcoming-event/dyoc-designing-your-online-course-qm-dedicated-workshop-2021-7-8/
LOCATION:Online (Asynchronous)
CATEGORIES:DYOC,QM Dedicated Workshop
END:VEVENT
BEGIN:VEVENT
DTSTART;VALUE=DATE:20210715
DTEND;VALUE=DATE:20210716
DTSTAMP:20260423T174021
CREATED:20210525T214147Z
LAST-MODIFIED:20230110T214118Z
UID:4886-1626307200-1626393599@www.ocolearnok.org
SUMMARY:DYOC (Designing Your Online Course) – Dedicated Workshop
DESCRIPTION:Description: The “Designing Your Online Course” workshop includes an overview of the QM Rubric and provides a framework for participants to design an online course plan. An integral element of the workshop is exploration of the eight General Standards of the QM Rubric\, focusing on learning objectives and overall course alignment. Participants will complete a Course Development Plan. The plan includes all of the essential Specific Review Standards (SRS) with a column for how the participant will meet the SRS in their course and what resources they will need. \nPrerequisites: None \nWhat Participants Need \n\nAn online course you are developing\n8 to 10 hours of time per week to spend on achieving the learning objectives\n\nCourse Length: Two weeks \nDelivery Mode: Online (Asynchronous) \nFacilitator(s): OKQM\, Brad Griffith (Oklahoma State Regents for Higher Education) \nRegistration: OKQM Dedicated Workshop Registration \nRegistration Fee for OKQM Affiliates: $65 early bird registration/$75 late registration \nWorkshops require a minimum of five participants to run.
URL:https://www.ocolearnok.org/upcoming-event/dyoc-designing-your-online-course-dedicated-workshop-2021-07-15/
CATEGORIES:DYOC,QM Dedicated Workshop
END:VEVENT
END:VCALENDAR