BEGIN:VCALENDAR
VERSION:2.0
PRODID:-//Online Consortium of Oklahoma - ECPv6.15.20//NONSGML v1.0//EN
CALSCALE:GREGORIAN
METHOD:PUBLISH
X-WR-CALNAME:Online Consortium of Oklahoma
X-ORIGINAL-URL:https://www.ocolearnok.org
X-WR-CALDESC:Events for Online Consortium of Oklahoma
REFRESH-INTERVAL;VALUE=DURATION:PT1H
X-Robots-Tag:noindex
X-PUBLISHED-TTL:PT1H
BEGIN:VTIMEZONE
TZID:America/Chicago
BEGIN:DAYLIGHT
TZOFFSETFROM:-0600
TZOFFSETTO:-0500
TZNAME:CDT
DTSTART:20210314T080000
END:DAYLIGHT
BEGIN:STANDARD
TZOFFSETFROM:-0500
TZOFFSETTO:-0600
TZNAME:CST
DTSTART:20211107T070000
END:STANDARD
BEGIN:DAYLIGHT
TZOFFSETFROM:-0600
TZOFFSETTO:-0500
TZNAME:CDT
DTSTART:20220313T080000
END:DAYLIGHT
BEGIN:STANDARD
TZOFFSETFROM:-0500
TZOFFSETTO:-0600
TZNAME:CST
DTSTART:20221106T070000
END:STANDARD
BEGIN:DAYLIGHT
TZOFFSETFROM:-0600
TZOFFSETTO:-0500
TZNAME:CDT
DTSTART:20230312T080000
END:DAYLIGHT
BEGIN:STANDARD
TZOFFSETFROM:-0500
TZOFFSETTO:-0600
TZNAME:CST
DTSTART:20231105T070000
END:STANDARD
END:VTIMEZONE
BEGIN:VEVENT
DTSTART;TZID=America/Chicago:20220401T100000
DTEND;TZID=America/Chicago:20220401T150000
DTSTAMP:20260423T023945
CREATED:20220307T191408Z
LAST-MODIFIED:20230110T220941Z
UID:5113-1648807200-1648825200@www.ocolearnok.org
SUMMARY:2022 Oklahoma Learning Innovations Summit
DESCRIPTION:Description: The Oklahoma Council for Online Learning Excellence (COLE) looks forward to hosting you at its annual conference on Fridays in April! \nHosted each spring\, the Oklahoma Learning Innovations Summit showcases online excellence in higher education throughout the state. Organized by members of the Council for Online Learning Excellence (COLE)\, this event invites faculty\, staff\, and administrators to share in best practices and innovations that support online learners. \nJoin us starting Friday\, April 1 at 10 am for The State of Online Learning in Oklahoma 2022\, which includes updates from our online collaboration groups (COLE\, OCO\, Oklahoma Quality Matters) and will conclude with a kickoff introduction from Chancellor Allison Garrett! \nSession tracks for 2022 include: Humanizing the Online Learning Experience\, Lessons Learned; New Paths Ahead\, Innovative Modalities and Design\, Meeting Workforce Needs Through Online Education\, and Innovative Use of Technologies. \nFollowing that\, a series of interactive sessions will be held each Friday in April (1\, 8\, 15\, 22) from 10 am-3 pm\, moderated by members of COLE. \nVisit https://summit.ocolearnok.org to register!
URL:https://www.ocolearnok.org/upcoming-event/2022-oklahoma-learning-innovations-summit-04-01/
LOCATION:Zoom Events (virtual)
END:VEVENT
BEGIN:VEVENT
DTSTART;VALUE=DATE:20220405
DTEND;VALUE=DATE:20220406
DTSTAMP:20260423T023945
CREATED:20220126T163822Z
LAST-MODIFIED:20230110T214012Z
UID:5098-1649116800-1649203199@www.ocolearnok.org
SUMMARY:APPQMR (Applying the QM Rubric) – QM Dedicated Workshop
DESCRIPTION:Description: QM’s flagship workshop on the QM Rubric and its use in reviewing the design of online and blended courses is intended for a broad audience\, including but not limited to faculty\, instructional designers\, administrators\, and adjunct instructors. It is particularly helpful to those new to QM or those considering the adoption of a quality assurance process for online and blended learning. \nIn addition to learning about the QM Rubric and the course review process\, participants will learn to apply the concept of alignment and draft helpful recommendations for course improvement. \nThe APPQMR is the prerequisite for the Peer Reviewer Course\, which is the required course to become a QM Peer Reviewer. \nPrerequisites: None \nWhat Participants Need: At least 10 to 12 hours of time per week to spend on achieving the learning objectives. Some participants report spending at least 15 hours per week. \nCourse Length: Two weeks \nDelivery Mode: Online (Asynchronous) \nRegistration: OKQM Dedicated Workshop Registration \nRegistration Fee for OKQM Affiliates: $95 early bird registration/$105 late registration \nWorkshops require a minimum of five participants to run.
URL:https://www.ocolearnok.org/upcoming-event/appqmr-applying-the-qm-rubric-qm-dedicated-workshop-2022-4-5/
LOCATION:Online (Asynchronous)
CATEGORIES:APPQMR,QM Dedicated Workshop
END:VEVENT
BEGIN:VEVENT
DTSTART;VALUE=DATE:20220407
DTEND;VALUE=DATE:20220408
DTSTAMP:20260423T023945
CREATED:20220126T162824Z
LAST-MODIFIED:20230110T214245Z
UID:5078-1649289600-1649375999@www.ocolearnok.org
SUMMARY:IYOC (Designing Your Online Course) – QM Dedicated Workshop
DESCRIPTION:Description: The “Improving Your Online Course” workshop explores the QM Rubric and provides a framework to improve the quality of online courses. Participants use the QM Rubric to review their own online courses and develop a course improvement plan.\nThe content is based on the essential Specific Review Standards of the Quality Matters Rubric. Participants come away with a plan for course improvement so enrolling in the workshop with a pre-developed online course is required.\nThose without an existing online course to improve should sign up for the Designing Your Online Course workshop. \nPrerequisites: None \nWhat Participants Need \n\nAn online course to improve.\n8 to 10 hours of time per week to spend on achieving the learning objectives.\n\nCourse Length: Two weeks \nDelivery Mode: Online (Asynchronous) \nRegistration: OKQM Dedicated Workshop Registration \nRegistration Fee with OKQM Membership: $75 early bird registration/$85 late registration \nWorkshops require a minimum of five participants to run.
URL:https://www.ocolearnok.org/upcoming-event/iyoc-designing-your-online-course-qm-dedicated-workshop-2022-4-7/
LOCATION:Online (Asynchronous)
CATEGORIES:IYOC,QM Dedicated Workshop
END:VEVENT
BEGIN:VEVENT
DTSTART;VALUE=DATE:20220407
DTEND;VALUE=DATE:20220408
DTSTAMP:20260423T023945
CREATED:20220126T163311Z
LAST-MODIFIED:20230110T214111Z
UID:5088-1649289600-1649375999@www.ocolearnok.org
SUMMARY:DYOC (Designing Your Online Course) – QM Dedicated Workshop
DESCRIPTION:Description: The “Designing Your Online Course” workshop includes an overview of the QM Rubric and provides a framework for participants to design an online course plan. An integral element of the workshop is exploration of the eight General Standards of the QM Rubric\, focusing on learning objectives and overall course alignment. Participants will complete a Course Development Plan. The plan includes all of the essential Specific Review Standards (SRS) with a column for how the participant will meet the SRS in their course and what resources they will need. \nPrerequisites: None \nWhat Participants Need \n\nAn online course you are developing\n8 to 10 hours of time per week to spend on achieving the learning objectives\n\nCourse Length: Two weeks \nDelivery Mode: Online (Asynchronous) \nRegistration: OKQM Dedicated Workshop Registration \nRegistration Fee for OKQM Affiliates: $75 early bird registration/$85 late registration \nWorkshops require a minimum of five participants to run.
URL:https://www.ocolearnok.org/upcoming-event/dyoc-designing-your-online-course-qm-dedicated-workshop-2022-4-7/
LOCATION:Online (Asynchronous)
CATEGORIES:DYOC,QM Dedicated Workshop
END:VEVENT
BEGIN:VEVENT
DTSTART;TZID=America/Chicago:20220408T100000
DTEND;TZID=America/Chicago:20220408T150000
DTSTAMP:20260423T023945
CREATED:20220307T191750Z
LAST-MODIFIED:20230110T212803Z
UID:5117-1649412000-1649430000@www.ocolearnok.org
SUMMARY:2022 Oklahoma Learning Innovations Summit
DESCRIPTION:Description: The Oklahoma Council for Online Learning Excellence (COLE) looks forward to hosting you at its annual conference on Fridays in April! \nHosted each spring\, the Oklahoma Learning Innovations Summit showcases online excellence in higher education throughout the state. Organized by members of the Council for Online Learning Excellence (COLE)\, this event invites faculty\, staff\, and administrators to share in best practices and innovations that support online learners. \nJoin us starting Friday\, April 1 at 10 am for The State of Online Learning in Oklahoma 2022\, which includes updates from our online collaboration groups (COLE\, OCO\, Oklahoma Quality Matters) and will conclude with a kickoff introduction from Chancellor Allison Garrett! \nSession tracks for 2022 include: Humanizing the Online Learning Experience\, Lessons Learned; New Paths Ahead\, Innovative Modalities and Design\, Meeting Workforce Needs Through Online Education\, and Innovative Use of Technologies. \nFollowing that\, a series of interactive sessions will be held each Friday in April (1\, 8\, 15\, 22) from 10 am-3 pm\, moderated by members of COLE. \nVisit https://summit.ocolearnok.org to register!
URL:https://www.ocolearnok.org/upcoming-event/2022-oklahoma-learning-innovations-summit-04-08/
LOCATION:Zoom Events (virtual)
END:VEVENT
BEGIN:VEVENT
DTSTART;TZID=America/Chicago:20220415T100000
DTEND;TZID=America/Chicago:20220415T150000
DTSTAMP:20260423T023945
CREATED:20220307T191952Z
LAST-MODIFIED:20230110T212801Z
UID:5119-1650016800-1650034800@www.ocolearnok.org
SUMMARY:2022 Oklahoma Learning Innovations Summit
DESCRIPTION:Description: The Oklahoma Council for Online Learning Excellence (COLE) looks forward to hosting you at its annual conference on Fridays in April! \nHosted each spring\, the Oklahoma Learning Innovations Summit showcases online excellence in higher education throughout the state. Organized by members of the Council for Online Learning Excellence (COLE)\, this event invites faculty\, staff\, and administrators to share in best practices and innovations that support online learners. \nJoin us starting Friday\, April 1 at 10 am for The State of Online Learning in Oklahoma 2022\, which includes updates from our online collaboration groups (COLE\, OCO\, Oklahoma Quality Matters) and will conclude with a kickoff introduction from Chancellor Allison Garrett! \nSession tracks for 2022 include: Humanizing the Online Learning Experience\, Lessons Learned; New Paths Ahead\, Innovative Modalities and Design\, Meeting Workforce Needs Through Online Education\, and Innovative Use of Technologies. \nFollowing that\, a series of interactive sessions will be held each Friday in April (1\, 8\, 15\, 22) from 10 am-3 pm\, moderated by members of COLE. \nVisit https://summit.ocolearnok.org to register!
URL:https://www.ocolearnok.org/upcoming-event/2022-oklahoma-learning-innovations-summit-04-15/
LOCATION:Zoom Events (virtual)
END:VEVENT
BEGIN:VEVENT
DTSTART;TZID=America/Chicago:20220422T100000
DTEND;TZID=America/Chicago:20220422T150000
DTSTAMP:20260423T023945
CREATED:20220307T192028Z
LAST-MODIFIED:20230110T212800Z
UID:5121-1650621600-1650639600@www.ocolearnok.org
SUMMARY:2022 Oklahoma Learning Innovations Summit
DESCRIPTION:Description: The Oklahoma Council for Online Learning Excellence (COLE) looks forward to hosting you at its annual conference on Fridays in April! \nHosted each spring\, the Oklahoma Learning Innovations Summit showcases online excellence in higher education throughout the state. Organized by members of the Council for Online Learning Excellence (COLE)\, this event invites faculty\, staff\, and administrators to share in best practices and innovations that support online learners. \nJoin us starting Friday\, April 1 at 10 am for The State of Online Learning in Oklahoma 2022\, which includes updates from our online collaboration groups (COLE\, OCO\, Oklahoma Quality Matters) and will conclude with a kickoff introduction from Chancellor Allison Garrett! \nSession tracks for 2022 include: Humanizing the Online Learning Experience\, Lessons Learned; New Paths Ahead\, Innovative Modalities and Design\, Meeting Workforce Needs Through Online Education\, and Innovative Use of Technologies. \nFollowing that\, a series of interactive sessions will be held each Friday in April (1\, 8\, 15\, 22) from 10 am-3 pm\, moderated by members of COLE. \nVisit https://summit.ocolearnok.org to register!
URL:https://www.ocolearnok.org/upcoming-event/2022-oklahoma-learning-innovations-summit-04-22/
LOCATION:Zoom Events (virtual)
END:VEVENT
END:VCALENDAR