BEGIN:VCALENDAR
VERSION:2.0
PRODID:-//Online Consortium of Oklahoma - ECPv6.15.20//NONSGML v1.0//EN
CALSCALE:GREGORIAN
METHOD:PUBLISH
X-WR-CALNAME:Online Consortium of Oklahoma
X-ORIGINAL-URL:https://www.ocolearnok.org
X-WR-CALDESC:Events for Online Consortium of Oklahoma
REFRESH-INTERVAL;VALUE=DURATION:PT1H
X-Robots-Tag:noindex
X-PUBLISHED-TTL:PT1H
BEGIN:VTIMEZONE
TZID:America/Chicago
BEGIN:DAYLIGHT
TZOFFSETFROM:-0600
TZOFFSETTO:-0500
TZNAME:CDT
DTSTART:20210314T080000
END:DAYLIGHT
BEGIN:STANDARD
TZOFFSETFROM:-0500
TZOFFSETTO:-0600
TZNAME:CST
DTSTART:20211107T070000
END:STANDARD
BEGIN:DAYLIGHT
TZOFFSETFROM:-0600
TZOFFSETTO:-0500
TZNAME:CDT
DTSTART:20220313T080000
END:DAYLIGHT
BEGIN:STANDARD
TZOFFSETFROM:-0500
TZOFFSETTO:-0600
TZNAME:CST
DTSTART:20221106T070000
END:STANDARD
BEGIN:DAYLIGHT
TZOFFSETFROM:-0600
TZOFFSETTO:-0500
TZNAME:CDT
DTSTART:20230312T080000
END:DAYLIGHT
BEGIN:STANDARD
TZOFFSETFROM:-0500
TZOFFSETTO:-0600
TZNAME:CST
DTSTART:20231105T070000
END:STANDARD
END:VTIMEZONE
BEGIN:VEVENT
DTSTART;VALUE=DATE:20221004
DTEND;VALUE=DATE:20221005
DTSTAMP:20260422T172101
CREATED:20220126T164043Z
LAST-MODIFIED:20230110T214007Z
UID:5104-1664841600-1664927999@www.ocolearnok.org
SUMMARY:APPQMR (Applying the QM Rubric) – QM Dedicated Workshop
DESCRIPTION:Description: QM’s flagship workshop on the QM Rubric and its use in reviewing the design of online and blended courses is intended for a broad audience\, including but not limited to faculty\, instructional designers\, administrators\, and adjunct instructors. It is particularly helpful to those new to QM or those considering the adoption of a quality assurance process for online and blended learning. \nIn addition to learning about the QM Rubric and the course review process\, participants will learn to apply the concept of alignment and draft helpful recommendations for course improvement. \nThe APPQMR is the prerequisite for the Peer Reviewer Course\, which is the required course to become a QM Peer Reviewer. \nPrerequisites: None \nWhat Participants Need: At least 10 to 12 hours of time per week to spend on achieving the learning objectives. Some participants report spending at least 15 hours per week. \nCourse Length: Two weeks \nDelivery Mode: Online (Asynchronous) \nRegistration: OKQM Dedicated Workshop Registration \nRegistration Fee for OKQM Affiliates: $95 early bird registration/$105 late registration \nWorkshops require a minimum of five participants to run.
URL:https://www.ocolearnok.org/upcoming-event/appqmr-applying-the-qm-rubric-qm-dedicated-workshop-2022-10-4/
LOCATION:Online (Asynchronous)
CATEGORIES:APPQMR,QM Dedicated Workshop
END:VEVENT
BEGIN:VEVENT
DTSTART;VALUE=DATE:20221006
DTEND;VALUE=DATE:20221007
DTSTAMP:20260422T172101
CREATED:20220126T163035Z
LAST-MODIFIED:20230110T214240Z
UID:5084-1665014400-1665100799@www.ocolearnok.org
SUMMARY:IYOC (Designing Your Online Course) – QM Dedicated Workshop
DESCRIPTION:Description: The “Improving Your Online Course” workshop explores the QM Rubric and provides a framework to improve the quality of online courses. Participants use the QM Rubric to review their own online courses and develop a course improvement plan.\nThe content is based on the essential Specific Review Standards of the Quality Matters Rubric. Participants come away with a plan for course improvement so enrolling in the workshop with a pre-developed online course is required.\nThose without an existing online course to improve should sign up for the Designing Your Online Course workshop. \nPrerequisites: None \nWhat Participants Need \n\nAn online course to improve.\n8 to 10 hours of time per week to spend on achieving the learning objectives.\n\nCourse Length: Two weeks \nDelivery Mode: Online (Asynchronous) \nRegistration: OKQM Dedicated Workshop Registration \nRegistration Fee with OKQM Membership: $75 early bird registration/$85 late registration \nWorkshops require a minimum of five participants to run.
URL:https://www.ocolearnok.org/upcoming-event/iyoc-designing-your-online-course-qm-dedicated-workshop-2022-10-6/
LOCATION:Online (Asynchronous)
CATEGORIES:IYOC,QM Dedicated Workshop
END:VEVENT
BEGIN:VEVENT
DTSTART;VALUE=DATE:20221006
DTEND;VALUE=DATE:20221007
DTSTAMP:20260422T172101
CREATED:20220126T163541Z
LAST-MODIFIED:20230110T214106Z
UID:5094-1665014400-1665100799@www.ocolearnok.org
SUMMARY:DYOC (Designing Your Online Course) – QM Dedicated Workshop
DESCRIPTION:Description: The “Designing Your Online Course” workshop includes an overview of the QM Rubric and provides a framework for participants to design an online course plan. An integral element of the workshop is exploration of the eight General Standards of the QM Rubric\, focusing on learning objectives and overall course alignment. Participants will complete a Course Development Plan. The plan includes all of the essential Specific Review Standards (SRS) with a column for how the participant will meet the SRS in their course and what resources they will need. \nPrerequisites: None \nWhat Participants Need \n\nAn online course you are developing\n8 to 10 hours of time per week to spend on achieving the learning objectives\n\nCourse Length: Two weeks \nDelivery Mode: Online (Asynchronous) \nRegistration: OKQM Dedicated Workshop Registration \nRegistration Fee for OKQM Affiliates: $75 early bird registration/$85 late registration \nWorkshops require a minimum of five participants to run.
URL:https://www.ocolearnok.org/upcoming-event/dyoc-designing-your-online-course-qm-dedicated-workshop-2022-10-6/
LOCATION:Online (Asynchronous)
CATEGORIES:DYOC,QM Dedicated Workshop
END:VEVENT
BEGIN:VEVENT
DTSTART;TZID=America/Chicago:20221025T150000
DTEND;TZID=America/Chicago:20221025T160000
DTSTAMP:20260422T172101
CREATED:20221012T161629Z
LAST-MODIFIED:20230110T212742Z
UID:5254-1666710000-1666713600@www.ocolearnok.org
SUMMARY:COLE FERPA Q&A Webinar
DESCRIPTION:The Council for Online Learning Excellence (COLE) and Online Consortium of Oklahoma (OCO) invite faculty\, staff\, and students to join us for a webinar to discuss issues related to FERPA and teaching and supporting online learners. Panelists for this event will include legal counsels Mackenzie Wilfong of Tulsa Community College and Brandee Hancock from Oklahoma State University. \nRegister for the free Zoom session. \nLive captions will be provided via Zoom.  Please contact Brad Griffith at online@osrhe.edu if you need to request any special accommodations to fully engage with us during the virtual event.
URL:https://www.ocolearnok.org/upcoming-event/cole-ferpa-qa-webinar/
LOCATION:Zoom Events (virtual)
END:VEVENT
BEGIN:VEVENT
DTSTART;VALUE=DATE:20221026
DTEND;VALUE=DATE:20221028
DTSTAMP:20260422T172101
CREATED:20221012T161141Z
LAST-MODIFIED:20230110T221106Z
UID:5252-1666742400-1666915199@www.ocolearnok.org
SUMMARY:2022 Oklahoma OER Summit
DESCRIPTION:Times: 10 am – 3 pm \nThe Council for Online Learning Excellence (COLE) and Online Consortium of Oklahoma (OCO) invite faculty\, staff\, and students to join us for the 2022 Oklahoma OER Summit. This free\, virtual event will be hosted via the Zoom Events platform. \nRegister via Zoom Events or by visiting https://summit.ocolearnok.org. \nAttendees will hear of new funding opportunities for open educational resources (OER)\, discover faculty-led open textbook projects\, and gain access to numerous resources provided to our colleges and universities at no cost. \nLive captions will be provided via Zoom and recordings will remain available following each session for 30 days within Zoom Events.  Please contact Brad Griffith at online@osrhe.edu if you need to request any special accommodations to fully engage with us during the virtual event.
URL:https://www.ocolearnok.org/upcoming-event/2022-oklahoma-oer-summit/
LOCATION:Zoom Events (virtual)
CATEGORIES:OER Summit
END:VEVENT
END:VCALENDAR