BEGIN:VCALENDAR
VERSION:2.0
PRODID:-//Online Consortium of Oklahoma - ECPv6.15.20//NONSGML v1.0//EN
CALSCALE:GREGORIAN
METHOD:PUBLISH
X-WR-CALNAME:Online Consortium of Oklahoma
X-ORIGINAL-URL:https://www.ocolearnok.org
X-WR-CALDESC:Events for Online Consortium of Oklahoma
REFRESH-INTERVAL;VALUE=DURATION:PT1H
X-Robots-Tag:noindex
X-PUBLISHED-TTL:PT1H
BEGIN:VTIMEZONE
TZID:America/Chicago
BEGIN:DAYLIGHT
TZOFFSETFROM:-0600
TZOFFSETTO:-0500
TZNAME:CDT
DTSTART:20220313T080000
END:DAYLIGHT
BEGIN:STANDARD
TZOFFSETFROM:-0500
TZOFFSETTO:-0600
TZNAME:CST
DTSTART:20221106T070000
END:STANDARD
BEGIN:DAYLIGHT
TZOFFSETFROM:-0600
TZOFFSETTO:-0500
TZNAME:CDT
DTSTART:20230312T080000
END:DAYLIGHT
BEGIN:STANDARD
TZOFFSETFROM:-0500
TZOFFSETTO:-0600
TZNAME:CST
DTSTART:20231105T070000
END:STANDARD
BEGIN:DAYLIGHT
TZOFFSETFROM:-0600
TZOFFSETTO:-0500
TZNAME:CDT
DTSTART:20240310T080000
END:DAYLIGHT
BEGIN:STANDARD
TZOFFSETFROM:-0500
TZOFFSETTO:-0600
TZNAME:CST
DTSTART:20241103T070000
END:STANDARD
END:VTIMEZONE
BEGIN:VEVENT
DTSTART;VALUE=DATE:20230404
DTEND;VALUE=DATE:20230419
DTSTAMP:20260422T074856
CREATED:20230110T220631Z
LAST-MODIFIED:20230110T220936Z
UID:5338-1680566400-1681862399@www.ocolearnok.org
SUMMARY:APPQMR (Applying the QM Rubric) – QM Dedicated Workshop
DESCRIPTION:Description: QM’s flagship workshop on the QM Rubric and its use in reviewing the design of online and blended courses is intended for a broad audience\, including but not limited to faculty\, instructional designers\, administrators\, and adjunct instructors. It is particularly helpful to those new to QM or those considering the adoption of a quality assurance process for online and blended learning. \nIn addition to learning about the QM Rubric and the course review process\, participants will learn to apply the concept of alignment and draft helpful recommendations for course improvement. \nThe APPQMR is the prerequisite for the Peer Reviewer Course\, which is the required course to become a QM Peer Reviewer. \nPrerequisites: None \nWhat Participants Need: At least 10 to 12 hours of time per week to spend on achieving the learning objectives. Some participants report spending at least 15 hours per week. \nCourse Length: Two weeks \nDelivery Mode: Online (Asynchronous) \nRegistration: OKQM Dedicated Workshop Registration \nRegistration Fee for OKQM Affiliates: $95 early bird registration/$105 late registration \nWorkshops require a minimum of five participants to run.
URL:https://www.ocolearnok.org/upcoming-event/appqmr-applying-the-qm-rubric-qm-dedicated-workshop-2023-4-4-18/
LOCATION:Online (Asynchronous)
CATEGORIES:APPQMR,QM Dedicated Workshop
END:VEVENT
BEGIN:VEVENT
DTSTART;VALUE=DATE:20230406
DTEND;VALUE=DATE:20230421
DTSTAMP:20260422T074856
CREATED:20230110T214537Z
LAST-MODIFIED:20230110T220934Z
UID:5324-1680739200-1682035199@www.ocolearnok.org
SUMMARY:IYOC (Designing Your Online Course) – QM Dedicated Workshop
DESCRIPTION:Description: The “Improving Your Online Course” workshop explores the QM Rubric and provides a framework to improve the quality of online courses. Participants use the QM Rubric to review their own online courses and develop a course improvement plan.\nThe content is based on the essential Specific Review Standards of the Quality Matters Rubric. Participants come away with a plan for course improvement so enrolling in the workshop with a pre-developed online course is required. \nThose without an existing online course to improve should sign up for the Designing Your Online Course workshop. \nPrerequisites: None \nWhat Participants Need \n\nAn online course to improve.\n8 to 10 hours of time per week to spend on achieving the learning objectives.\n\nCourse Length: Two weeks \nDelivery Mode: Online (Asynchronous) \nRegistration: OKQM Dedicated Workshop Registration \nRegistration Fee with OKQM Membership: $75 early bird registration/$85 late registration \nWorkshops require a minimum of five participants to run.
URL:https://www.ocolearnok.org/upcoming-event/iyoc-designing-your-online-course-qm-dedicated-workshop-2023-4-6-20/
LOCATION:Online (Asynchronous)
CATEGORIES:IYOC,QM Dedicated Workshop
END:VEVENT
BEGIN:VEVENT
DTSTART;VALUE=DATE:20230406
DTEND;VALUE=DATE:20230421
DTSTAMP:20260422T074856
CREATED:20230110T215820Z
LAST-MODIFIED:20230110T220933Z
UID:5330-1680739200-1682035199@www.ocolearnok.org
SUMMARY:DYOC (Designing Your Online Course) – QM Dedicated Workshop
DESCRIPTION:Description: The “Designing Your Online Course” workshop includes an overview of the QM Rubric and provides a framework for participants to design an online course plan. An integral element of the workshop is exploration of the eight General Standards of the QM Rubric\, focusing on learning objectives and overall course alignment. Participants will complete a Course Development Plan. The plan includes all of the essential Specific Review Standards (SRS) with a column for how the participant will meet the SRS in their course and what resources they will need. \nPrerequisites: None \nWhat Participants Need \n\nAn online course you are developing\n8 to 10 hours of time per week to spend on achieving the learning objectives\n\nCourse Length: Two weeks \nDelivery Mode: Online (Asynchronous) \nRegistration: OKQM Dedicated Workshop Registration \nRegistration Fee for OKQM Affiliates: $75 early bird registration/$85 late registration \nWorkshops require a minimum of five participants to run.
URL:https://www.ocolearnok.org/upcoming-event/dyoc-designing-your-online-course-qm-dedicated-workshop-2023-4-6-20/
LOCATION:Online (Asynchronous)
CATEGORIES:DYOC,QM Dedicated Workshop
END:VEVENT
BEGIN:VEVENT
DTSTART;VALUE=DATE:20230420
DTEND;VALUE=DATE:20230422
DTSTAMP:20260422T074856
CREATED:20230110T212617Z
LAST-MODIFIED:20230110T212733Z
UID:5305-1681948800-1682121599@www.ocolearnok.org
SUMMARY:2023 Oklahoma Learning Innovations Summit
DESCRIPTION:The Oklahoma Council for Online Learning Excellence (COLE) invites you to share your ground-breaking ideas\, research and best practices in online education at the 2023 Oklahoma Learning Innovations Summit\, to be held Thursday\, April 20 via Zoom Events and Friday\, April 21 in-person at Rose State College with some streaming sessions available. \nThe priority deadline for proposals is Monday\, February 27.  Proposals submitted after the priority deadline will be shared with the committee until the event program is finalized. \nThe 2023 theme is BOLD Future – Building Opportunities for Learning & Discovery\, with tracks including: \n\nCollaboration and Engagement – How do we connect learners with one another\, ourselves\, and their discipline knowledge?\nAssessing Learner Success – How do we measure learning outcomes which develop life and career-critical competencies?\nInnovation Best Practices – How do we position existing resources to invent solutions for emerging challenges?\nSupport Through Technology – How do we leverage technology to reach every learner everywhere?\n\nAll presenters and participants will be invited to join the virtual event at no cost; a link will be provided at a later date.  The Friday\, April 21 in-person event will include breakfast and lunch with an anticipated registration fee of $40.  You may include up to four presenters on the submission form.  Contact online@osrhe.edu if you have any questions before submitting the form or if you need to include additional presenter information. \nView Call for Proposals \nSubmit a Proposal \nNotify Me When Registration is Available
URL:https://www.ocolearnok.org/upcoming-event/2023-oklahoma-learning-innovations-summit/
END:VEVENT
END:VCALENDAR