BEGIN:VCALENDAR
VERSION:2.0
PRODID:-//Online Consortium of Oklahoma - ECPv6.15.20//NONSGML v1.0//EN
CALSCALE:GREGORIAN
METHOD:PUBLISH
X-ORIGINAL-URL:https://www.ocolearnok.org
X-WR-CALDESC:Events for Online Consortium of Oklahoma
REFRESH-INTERVAL;VALUE=DURATION:PT1H
X-Robots-Tag:noindex
X-PUBLISHED-TTL:PT1H
BEGIN:VTIMEZONE
TZID:America/Chicago
BEGIN:DAYLIGHT
TZOFFSETFROM:-0600
TZOFFSETTO:-0500
TZNAME:CDT
DTSTART:20230312T080000
END:DAYLIGHT
BEGIN:STANDARD
TZOFFSETFROM:-0500
TZOFFSETTO:-0600
TZNAME:CST
DTSTART:20231105T070000
END:STANDARD
BEGIN:DAYLIGHT
TZOFFSETFROM:-0600
TZOFFSETTO:-0500
TZNAME:CDT
DTSTART:20240310T080000
END:DAYLIGHT
BEGIN:STANDARD
TZOFFSETFROM:-0500
TZOFFSETTO:-0600
TZNAME:CST
DTSTART:20241103T070000
END:STANDARD
BEGIN:DAYLIGHT
TZOFFSETFROM:-0600
TZOFFSETTO:-0500
TZNAME:CDT
DTSTART:20250309T080000
END:DAYLIGHT
BEGIN:STANDARD
TZOFFSETFROM:-0500
TZOFFSETTO:-0600
TZNAME:CST
DTSTART:20251102T070000
END:STANDARD
END:VTIMEZONE
BEGIN:VEVENT
DTSTART;TZID=America/Chicago:20240223T110000
DTEND;TZID=America/Chicago:20240223T130000
DTSTAMP:20260421T151049
CREATED:20231214T181820Z
LAST-MODIFIED:20231214T181820Z
UID:5479-1708686000-1708693200@www.ocolearnok.org
SUMMARY:OKLIS Virtual Session: Digital Media
DESCRIPTION:Time: 11:00 am – 1:00 pm \n\n11:00am Toddler Steps in Podcasting – Ally Sharp\n11:30am Advanced Podcasting + ACM Micro-credentials – Sephra Scheuber and Nick Ross\n12:15pm The New Frontier: Game Tech-Driven Immersive VR in Higher Education – Robert Wall\n\nAs an expansion of the annual Oklahoma Learning Innovations Summit (OKLIS)\, the Council for Online Learning Excellence (COLE) Professional Development\, Advanced Technologies\, and LMS & Tools Committees and the Online Consortium of Oklahoma (OCO) invite faculty\, staff\, and students to join us for a virtual session to discuss digital media as it relates to supporting online learners.  The first event\, “Toddler Steps in Podcasting\,” is hosted by Ally Sharp from Langston University. The next session\, “Advanced Podcasting + ACM Micro-credentials\,” is hosted by Sephra Scheuber from the University of Oklahoma and Nick Poss from the University of Central Oklahoma. The final session\, “The New Frontier: Game Tech-Driven Immersive VR in Higher Education hosted by Robert Wall from the University of Central Oklahoma. \nRegister for Free Zoom Session \nLive captions will be provided via Zoom.  Please contact Tracey Romano at online@osrhe.edu if you need to request any special accommodations to fully engage with us during the virtual event.
URL:https://www.ocolearnok.org/upcoming-event/oklis-virtual-session-digital-media/
LOCATION:Virtual
END:VEVENT
BEGIN:VEVENT
DTSTART;VALUE=DATE:20240229
DTEND;VALUE=DATE:20240315
DTSTAMP:20260421T151049
CREATED:20240215T220455Z
LAST-MODIFIED:20240215T220656Z
UID:5494-1709164800-1710460799@www.ocolearnok.org
SUMMARY:DYOC (Designing Your Online Course) – QM Dedicated Workshop
DESCRIPTION:Description: The “Designing Your Online Course” workshop includes an overview of the QM Rubric and provides a framework for participants to design an online course plan. An integral element of the workshop is exploration of the eight General Standards of the QM Rubric\, focusing on learning objectives and overall course alignment. Participants will complete a Course Development Plan. The plan includes all of the essential Specific Review Standards (SRS) with a column for how the participant will meet the SRS in their course and what resources they will need. \nPrerequisites: None \nWhat Participants Need \n\nAn online course you are developing\n8 to 10 hours of time per week to spend on achieving the learning objectives\n\nCourse Length: Two weeks \nDelivery Mode: Online (Asynchronous) \nRegistration: OKQM Dedicated Workshop Registration  \nRegistration Fee for OKQM Affiliates: $75 early bird registration/$85 late registration \nWorkshops require a minimum of five participants to run.
URL:https://www.ocolearnok.org/upcoming-event/dyoc-designing-your-online-course-qm-dedicated-workshop-february-march/
CATEGORIES:DYOC,QM Dedicated Workshop
END:VEVENT
END:VCALENDAR