BEGIN:VCALENDAR
VERSION:2.0
PRODID:-//Online Consortium of Oklahoma - ECPv6.15.20//NONSGML v1.0//EN
CALSCALE:GREGORIAN
METHOD:PUBLISH
X-ORIGINAL-URL:https://www.ocolearnok.org
X-WR-CALDESC:Events for Online Consortium of Oklahoma
REFRESH-INTERVAL;VALUE=DURATION:PT1H
X-Robots-Tag:noindex
X-PUBLISHED-TTL:PT1H
BEGIN:VTIMEZONE
TZID:America/Chicago
BEGIN:DAYLIGHT
TZOFFSETFROM:-0600
TZOFFSETTO:-0500
TZNAME:CDT
DTSTART:20230312T080000
END:DAYLIGHT
BEGIN:STANDARD
TZOFFSETFROM:-0500
TZOFFSETTO:-0600
TZNAME:CST
DTSTART:20231105T070000
END:STANDARD
BEGIN:DAYLIGHT
TZOFFSETFROM:-0600
TZOFFSETTO:-0500
TZNAME:CDT
DTSTART:20240310T080000
END:DAYLIGHT
BEGIN:STANDARD
TZOFFSETFROM:-0500
TZOFFSETTO:-0600
TZNAME:CST
DTSTART:20241103T070000
END:STANDARD
BEGIN:DAYLIGHT
TZOFFSETFROM:-0600
TZOFFSETTO:-0500
TZNAME:CDT
DTSTART:20250309T080000
END:DAYLIGHT
BEGIN:STANDARD
TZOFFSETFROM:-0500
TZOFFSETTO:-0600
TZNAME:CST
DTSTART:20251102T070000
END:STANDARD
END:VTIMEZONE
BEGIN:VEVENT
DTSTART;TZID=America/Chicago:20240613T090000
DTEND;TZID=America/Chicago:20240613T150000
DTSTAMP:20260421T083528
CREATED:20240528T171817Z
LAST-MODIFIED:20240528T172908Z
UID:6313-1718269200-1718290800@www.ocolearnok.org
SUMMARY:2024 Teaching with Technology Conference
DESCRIPTION:Location: Wes Watkins Center – Oklahoma State University\, N.Washington St. & W.Hall of Fame Ave.\, Stillwater\, OK 74078 (Google Maps)\n\nDate: Thursday\, June 13\, 2024\n\nTime: 9:00 am – 3:00 pm\n\nCost: $30 Early bird before May 31\, $45 Standard after June 1st\n\nDescription: Save the date\, register\, and submit your proposals for OSU’s 2024 Teaching with Technology Conference on June 13th at the Wes Watkins Center. This year’s theme is ‘Breaking Barriers\, Embracing Change\, Evolving for Success!’ Our keynote speaker\, Dr. Sabba Quidwai from @designingschools\, is sure to spark innovation and a growth mindset in the EdTech space.\n\nHosted by the Oklahoma State University Institute for Teaching and Learning Excellence and organized by Alysia Ropp\, OSU Online Teaching Support Specialist.\nWe urge you to submit your presentation proposals and share the possibilities of powerful technology tools or reshaped teaching approaches in response to AI for impactful student success. Register today! \nRegister for Conference\nView Conference Flyer\nSubmit a Proposal (deadline May 17\, 2024)
URL:https://www.ocolearnok.org/upcoming-event/2024-teaching-with-technology-conference/
LOCATION:Wes Watkins Center – Oklahoma State University\, N.Washington St. & W.Hall of Fame Ave\, Stillwater\, OK\, 74078\, United States
END:VEVENT
END:VCALENDAR